BEGIN:VCALENDAR
VERSION:2.0
PRODID:-//Segelclub Wendelsee Thun//NONSGML kigkonsult.se iCalcreator 2.16.
 12//
METHOD:PUBLISH
X-MS-OLK-FORCEINSPECTOROPEN:TRUE
BEGIN:VEVENT
UID:20260419T155452CEST-46541mtvuO@Segelclub Wendelsee Thun
DTSTAMP:20260419T135452Z
DESCRIPTION:\n\nFonduehöck am Freitag\, 7. Februar 2025.\n\nBeginn um 19:00
  Uhr\nDurchführung Heinz\, Erika und Fredy\n\nUm eine Anmeldung wird gebet
 en.\n\n16.01.2025/ der Vorstand
DTSTART:20250207T190000
DTEND:20250207T230000
LOCATION:SCWe-Clubraum
ORGANIZER:MAILTO:Segelclub Wendelsee Thun <info@scwe.ch>
SUMMARY:Fonduehöck
END:VEVENT
END:VCALENDAR
