BEGIN:VCALENDAR
VERSION:2.0
PRODID:-//Segelclub Wendelsee Thun//NONSGML kigkonsult.se iCalcreator 2.16.
 12//
METHOD:PUBLISH
X-MS-OLK-FORCEINSPECTOROPEN:TRUE
BEGIN:VEVENT
UID:20260419T154221CEST-7637xFlr31@Segelclub Wendelsee Thun
DTSTAMP:20260419T134221Z
DESCRIPTION:Gemütlicher Apéro zwischendurch ausnahmsweise im SCWe-Lokal.\n
 \n11:00 - 12:00 Uhr\n\nKeine Anmeldung - einfach kommen.\n\nDer Präsident
DTSTART:20241213T110000
DTEND:20241213T120000
LOCATION:SCWe-Lokal
ORGANIZER:MAILTO:Segelclub Wendelsee Thun <info@scwe.ch>
SUMMARY:Apéro zwischendurch
END:VEVENT
END:VCALENDAR
