BEGIN:VCALENDAR
VERSION:2.0
PRODID:-//Segelclub Wendelsee Thun//NONSGML kigkonsult.se iCalcreator 2.16.
 12//
METHOD:PUBLISH
X-MS-OLK-FORCEINSPECTOROPEN:TRUE
BEGIN:VEVENT
UID:20260419T154432CEST-8236OujJUE@Segelclub Wendelsee Thun
DTSTAMP:20260419T134432Z
DESCRIPTION:\n\nAltjahrshöck mit Raclette à discrétion.\n\nApéro ab 19:00 U
 hr\, Raclette ab 19:30 Uhr.\nDas Wirteteam freut sich auf einen guten Besu
 ch.\n\n24.11.2024\, der Vorstand
DTSTART:20241227T190000
DTEND:20241227T233000
LOCATION:Clublokal
ORGANIZER:MAILTO:Segelclub Wendelsee Thun <info@scwe.ch>
SUMMARY:Altjahrshöck 2024
END:VEVENT
END:VCALENDAR
