BEGIN:VCALENDAR
VERSION:2.0
PRODID:-//Segelclub Wendelsee Thun//NONSGML kigkonsult.se iCalcreator 2.16.
 12//
METHOD:PUBLISH
X-MS-OLK-FORCEINSPECTOROPEN:TRUE
BEGIN:VEVENT
UID:20260419T155452CEST-6058GPRu7P@Segelclub Wendelsee Thun
DTSTAMP:20260419T135452Z
DESCRIPTION:\n\nGemütlicher Höck in vorweihnächtlicher Stimmung im SCWe-Lok
 al.\n\nDetails siehe in der Beilage.\nClubwirte: Marta\, Maja und Fritz\n
 \n13.10.2024/ der Vorstand
DTSTART:20241206T190000
DTEND:20241206T230000
LOCATION:Clublokal
ORGANIZER:MAILTO:Segelclub Wendelsee Thun <info@scwe.ch>
SUMMARY:Chlousehöck 2024
END:VEVENT
END:VCALENDAR
