BEGIN:VCALENDAR
VERSION:2.0
PRODID:-//Segelclub Wendelsee Thun//NONSGML kigkonsult.se iCalcreator 2.16.
 12//
METHOD:PUBLISH
X-MS-OLK-FORCEINSPECTOROPEN:TRUE
BEGIN:VEVENT
UID:20260419T155439CEST-7348oTvKUR@Segelclub Wendelsee Thun
DTSTAMP:20260419T135439Z
DESCRIPTION:Der nächste Apéro zwischendurch findet am Freitag\, 19. Juli 20
 24 im Holiday statt.\nVon 11:00 bis 12:00 Uhr.\nKeine Anmeldung - einfach 
 kommen.\n\n04.07.2024/ Präsident
DTSTART:20240719T110000
DTEND:20240719T120000
LOCATION:Hotel Holiday
ORGANIZER:MAILTO:Segelclub Wendelsee Thun <info@scwe.ch>
SUMMARY:Apéro zwischendurch
END:VEVENT
END:VCALENDAR
