BEGIN:VCALENDAR
VERSION:2.0
PRODID:-//Segelclub Wendelsee Thun//NONSGML kigkonsult.se iCalcreator 2.16.
 12//
METHOD:PUBLISH
X-MS-OLK-FORCEINSPECTOROPEN:TRUE
BEGIN:VEVENT
UID:20260419T153317CEST-9504TCZ62J@Segelclub Wendelsee Thun
DTSTAMP:20260419T133317Z
DESCRIPTION:\n\nEinladung zum Absegeln 2024\n\nZuerst wird gesegelt\, dann 
 im Päckli geankert für den gemeinsamen Apéro und anschliessend gibt es ras
 sige Spaghetti im Clubhaus.\n- Segeln \n- Päckli auf dem See um ca 15:30 U
 hr\n  wird durchgeführt\n- Nachtessen im Club um 18:00 Uhr\n\nDetails sieh
 e in der Einladung.\n\nDer Vorstand/ 14.09.2024/ 18.10.2024\n \n
DTSTART:20241019T133000
DTEND:20241019T200000
LOCATION:Vor Grunderinseli / im Clubhaus
ORGANIZER:MAILTO:Segelclub Wendelsee Thun <info@scwe.ch>
SUMMARY:Absegeln 2024
END:VEVENT
END:VCALENDAR
