BEGIN:VCALENDAR
VERSION:2.0
PRODID:-//Segelclub Wendelsee Thun//NONSGML kigkonsult.se iCalcreator 2.16.
 12//
METHOD:PUBLISH
X-MS-OLK-FORCEINSPECTOROPEN:TRUE
BEGIN:VEVENT
UID:20260419T172643CEST-3005T5Ro6n@Segelclub Wendelsee Thun
DTSTAMP:20260419T152643Z
DESCRIPTION:
DTSTART:20161007T210000
DTEND:20161008T015900
LOCATION:Clublokal
ORGANIZER:MAILTO:Segelclub Wendelsee Thun <info@scwe.ch>
SUMMARY:Oktober Fest
END:VEVENT
END:VCALENDAR
