BEGIN:VCALENDAR
VERSION:2.0
PRODID:-//Segelclub Wendelsee Thun//NONSGML kigkonsult.se iCalcreator 2.16.
 12//
METHOD:PUBLISH
X-MS-OLK-FORCEINSPECTOROPEN:TRUE
BEGIN:VEVENT
UID:20260419T155440CEST-7354XCkb3P@Segelclub Wendelsee Thun
DTSTAMP:20260419T135440Z
DESCRIPTION:\n\nMonatshöck am 6. September 2024\n\nEintreffen    ab 19:00 U
 hr\nCrew            Koni und Ruth\n\nUm eine Anmeldung per Mail bis 3. Sep
 tember an info@scwe.ch wird gebeten.
DTSTART:20240906T190000
DTEND:20240906T230000
LOCATION:Clublokal
ORGANIZER:MAILTO:Segelclub Wendelsee Thun <info@scwe.ch>
SUMMARY:September-Höck 2024
END:VEVENT
END:VCALENDAR
