BEGIN:VCALENDAR
VERSION:2.0
PRODID:-//Segelclub Wendelsee Thun//NONSGML kigkonsult.se iCalcreator 2.16.
 12//
METHOD:PUBLISH
X-MS-OLK-FORCEINSPECTOROPEN:TRUE
BEGIN:VEVENT
UID:20260419T155308CEST-2837uonNid@Segelclub Wendelsee Thun
DTSTAMP:20260419T135308Z
DESCRIPTION:\n\nSCWe-Classic\, Clubregatta\nan der auch Gäste willkommen si
 nd.\n\nStart           So\, 25. August 2024 um14:00 Uhr\nDetails       sie
 he in der Ausschreibung\nMeldung    Ja gerne mit m2s\n\nRangverkündigung c
 a um 16:30 Uhr beim SCWe\n 
DTSTART:20240825T140000
DTEND:20240825T170000
LOCATION:Thun
ORGANIZER:MAILTO:Segelclub Wendelsee Thun <info@scwe.ch>
SUMMARY:SCWe-Classic 2024
END:VEVENT
END:VCALENDAR
