BEGIN:VCALENDAR
VERSION:2.0
PRODID:-//Segelclub Wendelsee Thun//NONSGML kigkonsult.se iCalcreator 2.16.
 12//
METHOD:PUBLISH
X-MS-OLK-FORCEINSPECTOROPEN:TRUE
BEGIN:VEVENT
UID:20260419T155307CEST-0986ouNTjg@Segelclub Wendelsee Thun
DTSTAMP:20260419T135307Z
DESCRIPTION:\n\n3. TBSV-Cup_Regatta 2024 im SCWe\n\nStart        Samstag\, 
 24. August 2024 um 13:30 Uhr\nDetails    Siehe SCWe-Ausschreibung und im m
 2s\nAbend     Einlaufbier\, Grill nach der Regatta\n                Rangve
 rkündigung ca um 18:30 Uhr\n\n14.07.2024/ der Regattapräsident und Vorstan
 d\n
DTSTART:20240824T133000
DTEND:20240824T200000
LOCATION:Thun
ORGANIZER:MAILTO:Segelclub Wendelsee Thun <info@scwe.ch>
SUMMARY:SCWe-Cup 2024
END:VEVENT
END:VCALENDAR
