BEGIN:VCALENDAR
VERSION:2.0
PRODID:-//Segelclub Wendelsee Thun//NONSGML kigkonsult.se iCalcreator 2.16.
 12//
METHOD:PUBLISH
X-MS-OLK-FORCEINSPECTOROPEN:TRUE
BEGIN:VEVENT
UID:20260419T155439CEST-0266DWUV0T@Segelclub Wendelsee Thun
DTSTAMP:20260419T135439Z
DESCRIPTION:\n\nInterne Reservation der gschWIND\n\nDiese Reservationslinks
  dienen für die Planung und Reservation der gschWIND an den SCWe-Anlässen\
 , den TBSV-Trainings und dem TBSV-Cup.\n- Es ist im Clubinteresse\, dass d
 as Clubschiff mitmacht und Flagge zeigt.\n- Wenn es an einem Anlass nicht 
 benötigt wird\, bitte die Sailboxreservation rechtzeitig freigeben.\n\n24.
 03.2024/ der Vorstand\n 
DTSTART:20240401T000000
DTEND:20241031T000000
LOCATION:Thun
ORGANIZER:MAILTO:Segelclub Wendelsee Thun <info@scwe.ch>
SUMMARY:Interne gschWIND-Reservation
END:VEVENT
END:VCALENDAR
