BEGIN:VCALENDAR
VERSION:2.0
PRODID:-//Segelclub Wendelsee Thun//NONSGML kigkonsult.se iCalcreator 2.16.
 12//
METHOD:PUBLISH
X-MS-OLK-FORCEINSPECTOROPEN:TRUE
BEGIN:VEVENT
UID:20260419T155317CEST-8458hvXxlG@Segelclub Wendelsee Thun
DTSTAMP:20260419T135317Z
DESCRIPTION:\n\nSie und Er-Fahrt 2024\nWetter: Wird durchgeführt\n\nPlausch
 fahrt im unteren Seebecken bis etwa auf die Höhe Faulensee-Fischzucht gemä
 ss dem Kursbeschrieb in der Einladung.\nAnschliessend Nachtessen im Rössli
  Gwatt (Die Restaurants in der Umgebung des Lachenhafens sind wegen den Se
 espielen überfüllt).\n\nGerne erwarten wir eure Anmeldung für das Segeln u
 nd für das Nachtessen.\n\n06.05.2024/12.07.2024 der Vorstand
DTSTART:20240713T133000
DTEND:20240713T200000
LOCATION:Unterse Seebecken
ORGANIZER:MAILTO:Segelclub Wendelsee Thun <info@scwe.ch>
SUMMARY:Sie- und Er-Fahrt
END:VEVENT
END:VCALENDAR
