BEGIN:VCALENDAR
VERSION:2.0
PRODID:-//Segelclub Wendelsee Thun//NONSGML kigkonsult.se iCalcreator 2.16.
 12//
METHOD:PUBLISH
X-MS-OLK-FORCEINSPECTOROPEN:TRUE
BEGIN:VEVENT
UID:20260419T155446CEST-7158U5zc2m@Segelclub Wendelsee Thun
DTSTAMP:20260419T135446Z
DESCRIPTION:\nDer Samschtigsplausch kann wegen den angekündigten Gewittern 
 nicht durchgeführt werden.\n\n-> Wegen dem Ironman ist eine Verschiebung u
 m eine Woche leider nicht möglich.\n\nAusflug ins Güetital\, Boote im Hafe
 n belegen\, Apéro und wer will Nachtessen auf dem Schiff sowie Übernachten
 .\nEintreffen der Boote ca um 15:00 Uhr.\nApéro im Güetital ab 16:00 Uhr a
 n der Innenseite der Mole.\n\n28.06.2024/ Präsident
DTSTART:20240629T150000
DTEND:20240630T110000
LOCATION:Güetital
ORGANIZER:MAILTO:Segelclub Wendelsee Thun <info@scwe.ch>
SUMMARY:Samschtigsplausch
END:VEVENT
END:VCALENDAR
