BEGIN:VCALENDAR
VERSION:2.0
PRODID:-//Segelclub Wendelsee Thun//NONSGML kigkonsult.se iCalcreator 2.16.
 12//
METHOD:PUBLISH
X-MS-OLK-FORCEINSPECTOROPEN:TRUE
BEGIN:VEVENT
UID:20260419T155318CEST-07916fa3NV@Segelclub Wendelsee Thun
DTSTAMP:20260419T135318Z
DESCRIPTION:Apéro zwischendurch im Hotel Holiday in Thun\nZwischen 11:00 un
 d 12:00 Uhr
DTSTART:20240517T110000
DTEND:20240517T120000
LOCATION:Hotel Holiday
ORGANIZER:MAILTO:Segelclub Wendelsee Thun <info@scwe.ch>
SUMMARY:Apéro zwischendurch
END:VEVENT
END:VCALENDAR
