BEGIN:VCALENDAR
VERSION:2.0
PRODID:-//Segelclub Wendelsee Thun//NONSGML kigkonsult.se iCalcreator 2.16.
 12//
METHOD:PUBLISH
X-MS-OLK-FORCEINSPECTOROPEN:TRUE
BEGIN:VEVENT
UID:20260419T155445CEST-8714vHoxEJ@Segelclub Wendelsee Thun
DTSTAMP:20260419T135445Z
DESCRIPTION:\nEinhandregatta 2024\n\nAm Samstag 8. Juni 2024 um 14:00 Uhr.
 \nStart vor dem Seepark. Gesegelt wird ca 100 Minuten lang.\nEinzelstart j
 e nach Potential der Boote gem Yardstickwert vorausberechnet.\nGemeinsamer
  Zieldurchgang.\nSiehe Ausschreibung und m2s -> Link\n\nRangverkündigung b
 eim SCWe-Lokal um ca 17:15 Uhr\n\n10.03.2024/ Präs\n
DTSTART:20240608T140000
DTEND:20240608T173000
LOCATION:Unteres Seebecken
ORGANIZER:MAILTO:Segelclub Wendelsee Thun <info@scwe.ch>
SUMMARY:Einhandregatta
END:VEVENT
END:VCALENDAR
