BEGIN:VCALENDAR
VERSION:2.0
PRODID:-//Segelclub Wendelsee Thun//NONSGML kigkonsult.se iCalcreator 2.16.
 12//
METHOD:PUBLISH
X-MS-OLK-FORCEINSPECTOROPEN:TRUE
BEGIN:VEVENT
UID:20260419T172531CEST-6456rlSv24@Segelclub Wendelsee Thun
DTSTAMP:20260419T152531Z
DESCRIPTION:
DTSTART:20161015T180000
DTEND:20161015T235900
LOCATION:See / Clublokal
ORGANIZER:MAILTO:Segelclub Wendelsee Thun <info@scwe.ch>
SUMMARY:Absegeln
END:VEVENT
END:VCALENDAR
