BEGIN:VCALENDAR
VERSION:2.0
PRODID:-//Segelclub Wendelsee Thun//NONSGML kigkonsult.se iCalcreator 2.16.
 12//
METHOD:PUBLISH
X-MS-OLK-FORCEINSPECTOROPEN:TRUE
BEGIN:VEVENT
UID:20260419T155149CEST-0378U3C1Ts@Segelclub Wendelsee Thun
DTSTAMP:20260419T135149Z
DESCRIPTION:Gerne laden wir alle SCWe Mitglieder zum gemütlichen Tapas Aben
 d ein.\n\nAnmeldung bitte mit untenstehendem Link.\n\nVielen Dank und bis 
 bald.\n\n 
DTSTART:20150410T190000
DTEND:20150410T235900
LOCATION:Clublokal
ORGANIZER:MAILTO:Segelclub Wendelsee Thun <info@scwe.ch>
SUMMARY:April Höck - Tapas
END:VEVENT
END:VCALENDAR
