BEGIN:VCALENDAR
VERSION:2.0
PRODID:-//Segelclub Wendelsee Thun//NONSGML kigkonsult.se iCalcreator 2.16.
 12//
METHOD:PUBLISH
X-MS-OLK-FORCEINSPECTOROPEN:TRUE
BEGIN:VEVENT
UID:20260419T162056CEST-0032NEiUlP@Segelclub Wendelsee Thun
DTSTAMP:20260419T142056Z
DESCRIPTION:\nEinladung zum Ansegeln\n\nAm Samstag\, 11. Mai 2024 um 13:30 
 Uhr treffen wir uns auf dem See.\nWir starten deutlich ausserhalb vom Lach
 enkanal Thun (Achtung Untiefe) und segeln gemeinsam einen Kurs Richtung Sp
 iez/ Faulensee Fischzucht und zurück. Siehe Einladung.\nAnschliessend klei
 ner Umtrunk im Clublokal.\nBei Regenwetter direkt um 16:30 Uhr im Clubloka
 l.\n\nSiehe Einladung\n\n07.04.2024/ Vorstand
DTSTART:20240511T133000
DTEND:20240511T180000
LOCATION:Unteres Seebecken
ORGANIZER:MAILTO:Segelclub Wendelsee Thun <info@scwe.ch>
SUMMARY:Ansegeln 2024
END:VEVENT
END:VCALENDAR
