BEGIN:VCALENDAR
VERSION:2.0
PRODID:-//Segelclub Wendelsee Thun//NONSGML kigkonsult.se iCalcreator 2.16.
 12//
METHOD:PUBLISH
X-MS-OLK-FORCEINSPECTOROPEN:TRUE
BEGIN:VEVENT
UID:20260419T155359CEST-0175Blrf11@Segelclub Wendelsee Thun
DTSTAMP:20260419T135359Z
DESCRIPTION:Regattaregeln \n\nAuffrischen der Regattaregeln für die kommend
 e Saison.\nAm Mi\, 24. April 2024 um 19:00 Uhr im SCWe.\nDer NRO Stefan Sp
 eiser und NJ und ND Paul Müngert erklären die Regattaregeln.\nUm eine Anme
 ldung wird gebeten: ausbildung@tbsv.ch\n\n06.04.2024.2024/ Präs
DTSTART:20240424T190000
DTEND:20240424T210000
LOCATION:SCWe
ORGANIZER:MAILTO:Segelclub Wendelsee Thun <info@scwe.ch>
SUMMARY:Regattaregeln für alle Segler
END:VEVENT
END:VCALENDAR
