BEGIN:VCALENDAR
VERSION:2.0
PRODID:-//Segelclub Wendelsee Thun//NONSGML kigkonsult.se iCalcreator 2.16.
 12//
METHOD:PUBLISH
X-MS-OLK-FORCEINSPECTOROPEN:TRUE
BEGIN:VEVENT
UID:20260419T170725CEST-6014U9cTA4@Segelclub Wendelsee Thun
DTSTAMP:20260419T150725Z
DESCRIPTION:\n\nSegelkalender 2024 Breitensportbereich\nHier ist eine Zusam
 menstellung der Segelanlässe\, die im Jahr 2024 angeboten werden.\n- Nauti
 sche Anlässe\n- Plauschanlässe\n- Regattatrainings\n- Regatten für Breiten
 sport\n\n\n07.01.2024/Präs
DTSTART:20240107T130000
DTEND:20240107T133000
LOCATION:Thunersee
ORGANIZER:MAILTO:Segelclub Wendelsee Thun <info@scwe.ch>
SUMMARY:Breitensport-Segelanlässe 2024
END:VEVENT
END:VCALENDAR
