BEGIN:VCALENDAR
VERSION:2.0
PRODID:-//Segelclub Wendelsee Thun//NONSGML kigkonsult.se iCalcreator 2.16.
 12//
METHOD:PUBLISH
X-MS-OLK-FORCEINSPECTOROPEN:TRUE
BEGIN:VEVENT
UID:20260419T155150CEST-09389kRvtL@Segelclub Wendelsee Thun
DTSTAMP:20260419T135150Z
DESCRIPTION:\n\nEin Törn in der Türkei\n\nGute türkische Spezialitäten\, Fo
 tos sowie ein Film erwarten uns am Maihöck 2024\n\nDatum\, Zeit:    Fr\, 3
 . Mai 2024\, um 19:00 Uhr\nNachtessen:    Türkische Spezialitäten\nDetails
 :            Siehe in der Einladung\nAnmeldung:    Gerne bis Di\, 30. Apri
 l 2024\n\nBesten Dank der Crew Violeta\, Erika\, Daniel\, Fredy\, Hansjörg
  und Heinz\n\n07.04.2024/ Vorstand          \n 
DTSTART:20240503T190000
DTEND:20240503T230000
LOCATION:Clublokal
ORGANIZER:MAILTO:Segelclub Wendelsee Thun <info@scwe.ch>
SUMMARY:Mai-Höck
END:VEVENT
END:VCALENDAR
