BEGIN:VCALENDAR
VERSION:2.0
PRODID:-//Segelclub Wendelsee Thun//NONSGML kigkonsult.se iCalcreator 2.16.
 12//
METHOD:PUBLISH
X-MS-OLK-FORCEINSPECTOROPEN:TRUE
BEGIN:VEVENT
UID:20260419T155317CEST-48601akK7J@Segelclub Wendelsee Thun
DTSTAMP:20260419T135317Z
DESCRIPTION:Wir treffen uns zum Apéro zwischendurch im Hotel Holiday Thun.
DTSTART:20240419T110000
DTEND:20240419T120000
LOCATION:Hotel Holiday
ORGANIZER:MAILTO:Segelclub Wendelsee Thun <info@scwe.ch>
SUMMARY:Apéro zwischendurch
END:VEVENT
END:VCALENDAR
