BEGIN:VCALENDAR
VERSION:2.0
PRODID:-//Segelclub Wendelsee Thun//NONSGML kigkonsult.se iCalcreator 2.16.
 12//
METHOD:PUBLISH
X-MS-OLK-FORCEINSPECTOROPEN:TRUE
BEGIN:VEVENT
UID:20260419T155453CEST-62177Vs6LZ@Segelclub Wendelsee Thun
DTSTAMP:20260419T135453Z
DESCRIPTION:\n\nAprilhöck\nDer Höck findet wegen einem Anlass des RCT eine 
 Woche später statt.\n\nDatum\, Zeit:    Fr\, 12.04.2024 um 19:00 Uhr \nThe
 ma:            Schärengarten bei Stockholm.\n                         Eine
  fotografische Reise mit\n                         einem schwedischen Nach
 tessen\nDetails:            Siehe Einladung\nAnmeldung:    Gerne bis am Di
 \, 09.04.2024\n\n28.03.2024 der Vorstand
DTSTART:20240412T190000
DTEND:20240412T230000
LOCATION:Clublokal
ORGANIZER:MAILTO:Segelclub Wendelsee Thun <info@scwe.ch>
SUMMARY:April-Höck
END:VEVENT
END:VCALENDAR
