BEGIN:VCALENDAR
VERSION:2.0
PRODID:-//Segelclub Wendelsee Thun//NONSGML kigkonsult.se iCalcreator 2.16.
 12//
METHOD:PUBLISH
X-MS-OLK-FORCEINSPECTOROPEN:TRUE
BEGIN:VEVENT
UID:20260419T181810CEST-8254gvuUxG@Segelclub Wendelsee Thun
DTSTAMP:20260419T161810Z
DESCRIPTION:Apéro zwischendurch im Hotel Holiday in Thun.
DTSTART:20240216T110000
DTEND:20240216T120000
LOCATION:Hotel Holiday
ORGANIZER:MAILTO:Segelclub Wendelsee Thun <info@scwe.ch>
SUMMARY:Apéro zwischendurch
END:VEVENT
END:VCALENDAR
