BEGIN:VCALENDAR
VERSION:2.0
PRODID:-//Segelclub Wendelsee Thun//NONSGML kigkonsult.se iCalcreator 2.16.
 12//
METHOD:PUBLISH
X-MS-OLK-FORCEINSPECTOROPEN:TRUE
BEGIN:VEVENT
UID:20260419T170657CEST-5147a9zdTw@Segelclub Wendelsee Thun
DTSTAMP:20260419T150657Z
DESCRIPTION:Apéro zwischendurch\n\nEiertütschete im SCWe-Lokal. \n\nWir tüt
 schen die mitgebrachten Ostereier und geniessen einen kleinen Apéro.\nDazu
  werfen wir einen Blick zurück in die SCWe-Jahre 1987 - 2007 anhand alter 
 Fotos.\nEine Einladung wird verschickt.\n\n06.01.2024/PM\n \n
DTSTART:20240315T110000
DTEND:20240315T120000
LOCATION:Clublokal
ORGANIZER:MAILTO:Segelclub Wendelsee Thun <info@scwe.ch>
SUMMARY:Eiertütschete
END:VEVENT
END:VCALENDAR
