BEGIN:VCALENDAR
VERSION:2.0
PRODID:-//Segelclub Wendelsee Thun//NONSGML kigkonsult.se iCalcreator 2.16.
 12//
METHOD:PUBLISH
X-MS-OLK-FORCEINSPECTOROPEN:TRUE
BEGIN:VEVENT
UID:20260419T171043CEST-7870gd3M8t@Segelclub Wendelsee Thun
DTSTAMP:20260419T151043Z
DESCRIPTION:Apéro zwischendurch \n\nAm Freitag\, 19. Januar 2024 um 11:00 U
 hr im Hotel Holiday
DTSTART:20240119T110000
DTEND:20240119T120000
LOCATION:Hotel Holiday
ORGANIZER:MAILTO:Segelclub Wendelsee Thun <info@scwe.ch>
SUMMARY:Apéro zwischendurch
END:VEVENT
END:VCALENDAR
