BEGIN:VCALENDAR
VERSION:2.0
PRODID:-//Segelclub Wendelsee Thun//NONSGML kigkonsult.se iCalcreator 2.16.
 12//
METHOD:PUBLISH
X-MS-OLK-FORCEINSPECTOROPEN:TRUE
BEGIN:VEVENT
UID:20260419T171636CEST-77456rshJE@Segelclub Wendelsee Thun
DTSTAMP:20260419T151636Z
DESCRIPTION:Marianne und Ruedi Mäusli bieten Euch im November einen kleinen
  Einblick in die Ukraine. Der kulinarische Hauptteil besteht aus einer Bor
 schtsch\, einer roten Suppe mit Gemüse und etwas Siedfleisch und Sauerrahm
 . Zum Trinken dürfen Sekt und Wodka oder ein Glas Wein aus dem Klub-Beizli
  natürlich nicht fehlen. \n\n \n\nNach dem Essen können wir in ein paar Bi
 lder miterleben\, dass in der Ukraine auf dem Dnjepr-Delta herrlich gesege
 lt und in den wilden Karpaten gewandert werden kann.\n\n \n\nDie Gastgeber
  bitten um eine Anmeldung für den November-Höck bis zum Mittwoch\, 2. Nove
 mber 2016.\n
DTSTART:20161104T200000
DTEND:20161105T005900
LOCATION:Clublokal
ORGANIZER:MAILTO:Segelclub Wendelsee Thun <info@scwe.ch>
SUMMARY:November Höck - Borschtsch
END:VEVENT
END:VCALENDAR
