BEGIN:VCALENDAR
VERSION:2.0
PRODID:-//Segelclub Wendelsee Thun//NONSGML kigkonsult.se iCalcreator 2.16.
 12//
METHOD:PUBLISH
X-MS-OLK-FORCEINSPECTOROPEN:TRUE
BEGIN:VEVENT
UID:20260419T171149CEST-0682Me7z2A@Segelclub Wendelsee Thun
DTSTAMP:20260419T151149Z
DESCRIPTION:\n\nLiebe SCWe-Mitglieder\n\nHier findet ihr das provisorische 
 Jahresprogramm 2024/ 2025.\n\nEs kann noch Anpassungen geben und an der GV
  2023 wird es zur Genehmigunge vorgelegt.\n\n02. Dezember 2024/ Der Vorsta
 nd\n 
DTSTART:20231202T180000
DTEND:20231202T183000
LOCATION:SCWe
ORGANIZER:MAILTO:Segelclub Wendelsee Thun <info@scwe.ch>
SUMMARY:SCWe-Jahresprogramm 2024/2025
END:VEVENT
END:VCALENDAR
