BEGIN:VCALENDAR
VERSION:2.0
PRODID:-//Segelclub Wendelsee Thun//NONSGML kigkonsult.se iCalcreator 2.16.
 12//
METHOD:PUBLISH
X-MS-OLK-FORCEINSPECTOROPEN:TRUE
BEGIN:VEVENT
UID:20260419T170812CEST-28944VFUAV@Segelclub Wendelsee Thun
DTSTAMP:20260419T150812Z
DESCRIPTION:Datum:         Freitag\, 22. März 2024\nZeit:               Um 
 19:30 Uhr\nOrt:                Restaurant Lamm im Gwatt\nProgramm:   GV\, 
 Pause und nachher ein Znüni
DTSTART:20240322T193000
DTEND:20240322T220000
LOCATION:Im Lamm Gwatt
ORGANIZER:MAILTO:Segelclub Wendelsee Thun <info@scwe.ch>
SUMMARY:Generalversammlung 2024
END:VEVENT
END:VCALENDAR
