BEGIN:VCALENDAR
VERSION:2.0
PRODID:-//Segelclub Wendelsee Thun//NONSGML kigkonsult.se iCalcreator 2.16.
 12//
METHOD:PUBLISH
X-MS-OLK-FORCEINSPECTOROPEN:TRUE
BEGIN:VEVENT
UID:20260419T171330CEST-48461c0JPr@Segelclub Wendelsee Thun
DTSTAMP:20260419T151330Z
DESCRIPTION:Helferabend gemäss separater Einladung in Thun.\nDies betrifft 
 die Helfer und Helferinnen der Segelsaison 2023: Köche\, Clubwirte\, Beizl
 iteam\, Regattahelfer\, Organisatoren\, Jahrbuchhelfer und Vorstand.
DTSTART:20240308T190000
DTEND:20240308T223000
LOCATION:Thun
ORGANIZER:MAILTO:Segelclub Wendelsee Thun <info@scwe.ch>
SUMMARY:Helferabend 2023
END:VEVENT
END:VCALENDAR
