BEGIN:VCALENDAR
VERSION:2.0
PRODID:-//Segelclub Wendelsee Thun//NONSGML kigkonsult.se iCalcreator 2.16.
 12//
METHOD:PUBLISH
X-MS-OLK-FORCEINSPECTOROPEN:TRUE
BEGIN:VEVENT
UID:20260420T115607CEST-5453FwAB6u@Segelclub Wendelsee Thun
DTSTAMP:20260420T095607Z
DESCRIPTION:Der Monatshöck findet wegen der HV des RCT eine Woche später st
 att.\n\nDatum\, Zeit: Fr\, 9. Februar 2024 um 19:00 Uhr\n\nOrt:           
      Clublokal\nMenü:            Käsefondue\, Brot\, Kartoffeln\,\n       
                 Kirsch\, kleines Dessert\nWirteteam:   Heinz\, Erika\, Fri
 tz und Marta\n\nWir bitten um rechtzeitige Anmeldung.\n\n15.02.2024/ der V
 orstand\n
DTSTART:20240209T190000
DTEND:20240209T230000
LOCATION:SCWe-Lokal
ORGANIZER:MAILTO:Segelclub Wendelsee Thun <info@scwe.ch>
SUMMARY:Februarhöck: Fondueabend
END:VEVENT
END:VCALENDAR
