BEGIN:VCALENDAR
VERSION:2.0
PRODID:-//Segelclub Wendelsee Thun//NONSGML kigkonsult.se iCalcreator 2.16.
 12//
METHOD:PUBLISH
X-MS-OLK-FORCEINSPECTOROPEN:TRUE
BEGIN:VEVENT
UID:20260419T165641CEST-9420Uv2xe7@Segelclub Wendelsee Thun
DTSTAMP:20260419T145641Z
DESCRIPTION:Letzter Apéro zwischendurch vor Jahresende\n\nAm Freitag\, 15. 
 Dezember 2023 um 11:00 Uhr im Hotel Holiday.\n 
DTSTART:20231215T110000
DTEND:20231215T120000
LOCATION:Hotel Holiday
ORGANIZER:MAILTO:Segelclub Wendelsee Thun <info@scwe.ch>
SUMMARY:Apéro zwischendurch
END:VEVENT
END:VCALENDAR
