BEGIN:VCALENDAR
VERSION:2.0
PRODID:-//Segelclub Wendelsee Thun//NONSGML kigkonsult.se iCalcreator 2.16.
 12//
METHOD:PUBLISH
X-MS-OLK-FORCEINSPECTOROPEN:TRUE
BEGIN:VEVENT
UID:20260419T171043CEST-5231Wmefb3@Segelclub Wendelsee Thun
DTSTAMP:20260419T151043Z
DESCRIPTION:\n\nEin gemütlicher Abend\n\nDatum:          Freitag\, 1. Dezem
 ber 2023\nZeit:               Um 19:00 Uhr\nDetails:          Siehe in der
  Einladung\nAnmeldung   Bis Di\, 28.11.2022 an Info@scwe.ch\n\nDas Wirtete
 am Françoise\, Maja\, Daniel und Fritz freut sich.\n\nDer Vorstand/ 01.11.
 2023
DTSTART:20231201T190000
DTEND:20231201T230000
LOCATION:Clublokal
ORGANIZER:MAILTO:Segelclub Wendelsee Thun <info@scwe.ch>
SUMMARY:Chlousehöck
END:VEVENT
END:VCALENDAR
