BEGIN:VCALENDAR
VERSION:2.0
PRODID:-//Segelclub Wendelsee Thun//NONSGML kigkonsult.se iCalcreator 2.16.
 12//
METHOD:PUBLISH
X-MS-OLK-FORCEINSPECTOROPEN:TRUE
BEGIN:VEVENT
UID:20260419T170812CEST-64264BBfKX@Segelclub Wendelsee Thun
DTSTAMP:20260419T150812Z
DESCRIPTION:\n\nMittagessen im Restaurant Steinbock in Thun\n- Pilzspeziali
 täten.\n- Separate Einladung mit Anmeldung und\n  Menuewahl.\n\n01.10.2023
 / Präsident\n
DTSTART:20231013T110000
DTEND:20231013T133000
LOCATION:Restaurant Steinbock
ORGANIZER:MAILTO:Segelclub Wendelsee Thun <info@scwe.ch>
SUMMARY: Mittagessen in der Stadt
END:VEVENT
END:VCALENDAR
