BEGIN:VCALENDAR
VERSION:2.0
PRODID:-//Segelclub Wendelsee Thun//NONSGML kigkonsult.se iCalcreator 2.16.
 12//
METHOD:PUBLISH
X-MS-OLK-FORCEINSPECTOROPEN:TRUE
BEGIN:VEVENT
UID:20260419T165641CEST-45023hIHZN@Segelclub Wendelsee Thun
DTSTAMP:20260419T145641Z
DESCRIPTION:Apéro im Holiday\nJeweils von 11:00 bis ca 12:00 Uhr
DTSTART:20230915T110000
DTEND:20230915T120000
LOCATION:Thun
ORGANIZER:MAILTO:Segelclub Wendelsee Thun <info@scwe.ch>
SUMMARY:Apéro zwischendurch
END:VEVENT
END:VCALENDAR
