BEGIN:VCALENDAR
VERSION:2.0
PRODID:-//Segelclub Wendelsee Thun//NONSGML kigkonsult.se iCalcreator 2.16.
 12//
METHOD:PUBLISH
X-MS-OLK-FORCEINSPECTOROPEN:TRUE
BEGIN:VEVENT
UID:20260419T165641CEST-1145Z0C65t@Segelclub Wendelsee Thun
DTSTAMP:20260419T145641Z
DESCRIPTION:Apéro im Holiday Thun\n\nZeit: 11:00 - 12:00 Uhr\nEinfach komme
 n\; es braucht keinen Anmeldung.
DTSTART:20230818T110000
DTEND:20230818T120000
LOCATION:Thun
ORGANIZER:MAILTO:Segelclub Wendelsee Thun <info@scwe.ch>
SUMMARY:Apéro zwischendurch
END:VEVENT
END:VCALENDAR
