BEGIN:VCALENDAR
VERSION:2.0
PRODID:-//Segelclub Wendelsee Thun//NONSGML kigkonsult.se iCalcreator 2.16.
 12//
METHOD:PUBLISH
X-MS-OLK-FORCEINSPECTOROPEN:TRUE
BEGIN:VEVENT
UID:20260419T165726CEST-4444dU9UZO@Segelclub Wendelsee Thun
DTSTAMP:20260419T145726Z
DESCRIPTION:Abgabe der Fotoserie vom Fotoyachting 2023\nDas Fotoyachting 20
 23 beginnt mit dem Ansegeln und endet nach dem Absegeln im Oktober. \n\nZi
 el: Das Fotoyachting soll das Freizeitsegeln fördern. \nEs geht darum auf 
 dem Schiff Fotos zu einem vorgegebenen Thema zu schiessen\; also eine Bild
 serie mit drei Fotos.\n\nDie Fotos werden am Altjahrshöck\, im Jahrbuch un
 d an der GV 2024 präsentiert. Das Fotoyachting ist ein Wettbewerb mit Prei
 sen. \n\nThema: «Stimmungen auf dem Thunersee»\n\nSiehe Ausschreibung\n\n 
DTSTART:20231015T220000
DTEND:20231015T220000
ORGANIZER:MAILTO:Segelclub Wendelsee Thun <info@scwe.ch>
SUMMARY:Ende Fotoyachting 2023
END:VEVENT
END:VCALENDAR
