BEGIN:VCALENDAR
VERSION:2.0
PRODID:-//Segelclub Wendelsee Thun//NONSGML kigkonsult.se iCalcreator 2.16.
 12//
METHOD:PUBLISH
X-MS-OLK-FORCEINSPECTOROPEN:TRUE
BEGIN:VEVENT
UID:20260419T165641CEST-1221VucHp1@Segelclub Wendelsee Thun
DTSTAMP:20260419T145641Z
DESCRIPTION:\n\nSeptemberhöck 2023\n\nDatum:            Fr\, 1. September 2
 023\nZeit:                 19:00 Uhr\nEinladung:       Siehe Beilage\nGest
 altung:     Ruedi und Marianne\n\nEs gibt ein gutes\, abgestimmtes Menü. D
 azwischen ein fotographischer Ausflug nach Australien.\nEs kostet Fr 20.- 
 inklusive Apéro ohne die Getränke.\n\n11.08.2023/ der Vorstand
DTSTART:20230901T190000
DTEND:20230901T230000
LOCATION:SCWe-Clubhaus
ORGANIZER:MAILTO:Segelclub Wendelsee Thun <info@scwe.ch>
SUMMARY:Septemberhöck 
END:VEVENT
END:VCALENDAR
