BEGIN:VCALENDAR
VERSION:2.0
PRODID:-//Segelclub Wendelsee Thun//NONSGML kigkonsult.se iCalcreator 2.16.
 12//
METHOD:PUBLISH
X-MS-OLK-FORCEINSPECTOROPEN:TRUE
BEGIN:VEVENT
UID:20260419T171346CEST-6197xf85rp@Segelclub Wendelsee Thun
DTSTAMP:20260419T151346Z
DESCRIPTION:Apéro zwischendurch im Hotel Holiday in Thun.\n\nBeginn ab 11:0
 0 Uhr bis um ca 12:00 Uhr.\nKeine Anmeldung\; einfach nur kommen.
DTSTART:20230714T110000
DTEND:20230714T120000
LOCATION:Hotel Holiday
ORGANIZER:MAILTO:Segelclub Wendelsee Thun <info@scwe.ch>
SUMMARY:Apéro zwischendurch 
END:VEVENT
END:VCALENDAR
