BEGIN:VCALENDAR
VERSION:2.0
PRODID:-//Segelclub Wendelsee Thun//NONSGML kigkonsult.se iCalcreator 2.16.
 12//
METHOD:PUBLISH
X-MS-OLK-FORCEINSPECTOROPEN:TRUE
BEGIN:VEVENT
UID:20260419T181908CEST-7121oVSUbn@Segelclub Wendelsee Thun
DTSTAMP:20260419T161908Z
DESCRIPTION:\nClubregatta SCWe-Classic\nEine Clubregatta\, an der auch Gäst
 e willkommen sind. Ein idealer Einstieg in den Regattabetrieb.\nEs wird ei
 n Lauf gesegelt.\n\nAm Sonntag\, 20. August 2023 um 14:00 Uhr\n\nMeldung b
 itte an Manage2Sail oder im SCWe-Clubhaus.\n\nDetails siehe in der Ausschr
 eibung \n\n22.07.2023/ Vorstand\n
DTSTART:20230820T140000
DTEND:20230820T170000
LOCATION:Unteres Seebecken
ORGANIZER:MAILTO:Segelclub Wendelsee Thun <info@scwe.ch>
SUMMARY:SCWe-Classic 2023
END:VEVENT
END:VCALENDAR
