BEGIN:VCALENDAR
VERSION:2.0
PRODID:-//Segelclub Wendelsee Thun//NONSGML kigkonsult.se iCalcreator 2.16.
 12//
METHOD:PUBLISH
X-MS-OLK-FORCEINSPECTOROPEN:TRUE
BEGIN:VEVENT
UID:20260419T170832CEST-5196MWFlvr@Segelclub Wendelsee Thun
DTSTAMP:20260419T150832Z
DESCRIPTION:\nJunihöck: Grillabend\n\nDatum:    Freitag\, 2. Juni 2023\nZei
 t:         ab 19:00 Uhr\nOrt:          wenn möglich auf dem Räseli\n\nOrga
 nisation\nJedes nimmt sein Grillgut\, Salat\, Brot selbst mit. Der SCWe or
 ganisiert die Tische und Bänke und die Getränke.\nBei schlechtem Wetter gr
 illieren wir draussen und essen halt oben im Clubraum.\n\nWir bitten für d
 ie Vorbereitung um eine kurze Anmeldung bis am 1. Juni 2023.\n\n08.05.2023
 / der Vorstand
DTSTART:20230602T190000
DTEND:20230602T223000
LOCATION:SCWe-Clublokal
ORGANIZER:MAILTO:Segelclub Wendelsee Thun <info@scwe.ch>
SUMMARY:Juni-Höck 
END:VEVENT
END:VCALENDAR
