BEGIN:VCALENDAR
VERSION:2.0
PRODID:-//Segelclub Wendelsee Thun//NONSGML kigkonsult.se iCalcreator 2.16.
 12//
METHOD:PUBLISH
X-MS-OLK-FORCEINSPECTOROPEN:TRUE
BEGIN:VEVENT
UID:20260419T174021CEST-9779D5NuNg@Segelclub Wendelsee Thun
DTSTAMP:20260419T154021Z
DESCRIPTION:Diese Links dienen für die interne gschWIND-Reservation für\n- 
 TBSV-Regattatrainings\n- Ansegeln\n- TBSV-Cup-Regatten\n- Absegeln\n\n06.0
 4.2023/ Präsident
DTSTART:20230105T080000
DTEND:20231031T083000
LOCATION:Thun
ORGANIZER:MAILTO:Segelclub Wendelsee Thun <info@scwe.ch>
SUMMARY:interne gschWIND-Reservation
END:VEVENT
END:VCALENDAR
