BEGIN:VCALENDAR
VERSION:2.0
PRODID:-//Segelclub Wendelsee Thun//NONSGML kigkonsult.se iCalcreator 2.16.
 12//
METHOD:PUBLISH
X-MS-OLK-FORCEINSPECTOROPEN:TRUE
BEGIN:VEVENT
UID:20260419T181637CEST-1927WjSV0a@Segelclub Wendelsee Thun
DTSTAMP:20260419T161637Z
DESCRIPTION:\nSCWe-Cup 2023\n\nStart am Samstag\, 19.08.2023 um 13:30 Uhr\n
 Dies ist neu die 2. TBSV-Cup-Regatta der Saison 2023\n\nMeldung: manage2sa
 il\n\nRangverkündigung mit Einlaufbier und Grillwurst beim RCT/SCWe-Clubha
 us.\nDetails: Siehe Regatta-Ausschreibung\n\n22.07.2023/ Vorstand
DTSTART:20230819T133000
DTEND:20230819T200000
LOCATION:Thun/ unteres Seebecken
ORGANIZER:MAILTO:Segelclub Wendelsee Thun <info@scwe.ch>
SUMMARY:SCWe-Cup 2023
END:VEVENT
END:VCALENDAR
