BEGIN:VCALENDAR
VERSION:2.0
PRODID:-//Segelclub Wendelsee Thun//NONSGML kigkonsult.se iCalcreator 2.16.
 12//
METHOD:PUBLISH
X-MS-OLK-FORCEINSPECTOROPEN:TRUE
BEGIN:VEVENT
UID:20260419T165726CEST-9357ekzdCe@Segelclub Wendelsee Thun
DTSTAMP:20260419T145726Z
DESCRIPTION:ICE-Race am 6. Mai 22023\n\nDie Ruderregatta am Thunersee.\nSie
 he unter ice-race.ch\n\nFreitag:\nVorbereitungen im Raum Strämu.\n\nSamsta
 g:\nStart und Ziel Seepromenade - Grunderinseli.\n\n-> Behinderungen im Ha
 fen.\n 
DTSTART:20230505T160000
DTEND:20230506T180000
LOCATION:Strämu / Thunersee
ORGANIZER:MAILTO:Segelclub Wendelsee Thun <info@scwe.ch>
SUMMARY:ICE-Race Lake Thun
END:VEVENT
END:VCALENDAR
