BEGIN:VCALENDAR
VERSION:2.0
PRODID:-//Segelclub Wendelsee Thun//NONSGML kigkonsult.se iCalcreator 2.16.
 12//
METHOD:PUBLISH
X-MS-OLK-FORCEINSPECTOROPEN:TRUE
BEGIN:VEVENT
UID:20260419T171209CEST-0157GnvvMJ@Segelclub Wendelsee Thun
DTSTAMP:20260419T151209Z
DESCRIPTION:Apéro zwischendurch im Holiday\n\nBeginn ab 11:00 Uhr\; Ende ca
  12:00 Uhr
DTSTART:20230616T110000
DTEND:20230616T120000
LOCATION:Hotel Holiday
ORGANIZER:MAILTO:Segelclub Wendelsee Thun <info@scwe.ch>
SUMMARY:Apéro zwischendurch
END:VEVENT
END:VCALENDAR
