BEGIN:VCALENDAR
VERSION:2.0
PRODID:-//Segelclub Wendelsee Thun//NONSGML kigkonsult.se iCalcreator 2.16.
 12//
METHOD:PUBLISH
X-MS-OLK-FORCEINSPECTOROPEN:TRUE
BEGIN:VEVENT
UID:20260419T172531CEST-1962BMecIG@Segelclub Wendelsee Thun
DTSTAMP:20260419T152531Z
DESCRIPTION:\nEier tütsche im SCWe\nWenn es im Holiday keine Eier gibt\, da
 nn machen wir das selbst.\n11:00 Uhr im SCWe je nach Wetter im Clublokal o
 der draussen.\n\nOrganisation:\nNehmt ein Ei mit. Mayo\, Senf\, Aromat und
  Getränke hat es vor Ort.\nUm eine Anmeldung an info@scwe.ch wird gebeten.
 \n\n01.04.2023
DTSTART:20230414T110000
DTEND:20230414T120000
LOCATION:SCWe
ORGANIZER:MAILTO:Segelclub Wendelsee Thun <info@scwe.ch>
SUMMARY:Apéro und Eier tütsche
END:VEVENT
END:VCALENDAR
