BEGIN:VCALENDAR
VERSION:2.0
PRODID:-//Segelclub Wendelsee Thun//NONSGML kigkonsult.se iCalcreator 2.16.
 12//
METHOD:PUBLISH
X-MS-OLK-FORCEINSPECTOROPEN:TRUE
BEGIN:VEVENT
UID:20260419T172853CEST-3911rftd2U@Segelclub Wendelsee Thun
DTSTAMP:20260419T152853Z
DESCRIPTION:Geselliger Höck mit kleinem Apéro. Jedermann soll kommen\,\nOhn
 e Einladung und ohne Anmeldung.\n\nDatum:    Am Freitag in der Monatsmitte
 \nDauer:    11:00 - 12:00 Uhr\n\n\nDer Vorstand
DTSTART:20230217T110000
DTEND:20230217T113000
LOCATION:Hotel Holiday
ORGANIZER:MAILTO:Segelclub Wendelsee Thun <info@scwe.ch>
SUMMARY:Apéro zwischendurch
END:VEVENT
END:VCALENDAR
