BEGIN:VCALENDAR
VERSION:2.0
PRODID:-//Segelclub Wendelsee Thun//NONSGML kigkonsult.se iCalcreator 2.16.
 12//
METHOD:PUBLISH
X-MS-OLK-FORCEINSPECTOROPEN:TRUE
BEGIN:VEVENT
UID:20260419T171209CEST-0379pXS7hC@Segelclub Wendelsee Thun
DTSTAMP:20260419T151209Z
DESCRIPTION:Sie und Er Fahrt\n\nPlauschfahrt im Sinne des Breitensports für
  Sie und Er. Wir segeln zu zweit und suchen uns je nach Wind einen schönen
  Kurs im unteren Seebecken etwa bis Höhe Gunten - Spiez/Fischzucht.\nKommu
 niukation mit Handzeichen.\n\nStart:      13:30 Uhr auf der Höhe\n        
         Segelschule-Kanderdelta\nZiel:        ca 17:00 Uhr am gleichen Ort
 \n2. Teil     Nachtessen\, zB im Rössli eine Pizza\n\n26.06.2023/ der Vors
 tand\n
DTSTART:20230715T133000
DTEND:20230715T170000
LOCATION:unteres Seebecken
ORGANIZER:MAILTO:Segelclub Wendelsee Thun <info@scwe.ch>
SUMMARY:Sie und Er Fahrt
END:VEVENT
END:VCALENDAR
