BEGIN:VCALENDAR
VERSION:2.0
PRODID:-//Segelclub Wendelsee Thun//NONSGML kigkonsult.se iCalcreator 2.16.
 12//
METHOD:PUBLISH
X-MS-OLK-FORCEINSPECTOROPEN:TRUE
BEGIN:VEVENT
UID:20260419T170657CEST-8561xLTauu@Segelclub Wendelsee Thun
DTSTAMP:20260419T150657Z
DESCRIPTION:Maihöck 2023\n\nDatum\, Zeit:    Freitag\, 5. Mai 2023 um 19:00
  Uhr\nOrt:                   Clublokal\nDetails:             Siehe Einladu
 ng\nKöche:              Daniel Walter und Koni Gysi\nWirte:               
  Marta und Fritz Bigler\nAnmeldung:     Gerne bis am 1. Mai 2023\n\nDer Vo
 rstand\, 17.04.2023
DTSTART:20230505T190000
DTEND:20230505T230000
LOCATION:SCWe-Clubraum
ORGANIZER:MAILTO:Segelclub Wendelsee Thun <info@scwe.ch>
SUMMARY:Mai-Höck
END:VEVENT
END:VCALENDAR
