BEGIN:VCALENDAR
VERSION:2.0
PRODID:-//Segelclub Wendelsee Thun//NONSGML kigkonsult.se iCalcreator 2.16.
 12//
METHOD:PUBLISH
X-MS-OLK-FORCEINSPECTOROPEN:TRUE
BEGIN:VEVENT
UID:20260419T170535CEST-2659bkSoWJ@Segelclub Wendelsee Thun
DTSTAMP:20260419T150535Z
DESCRIPTION:\nEinhandregatta\n\nStart   \nAm Sa\, 10. Juni ab 14:00 Uhr\, z
 wischen BLS-Kanal Stb-Pfosten und oranger Startboje\n\nZiel\nEntweder Boje
  Höhe Hilterfingen oder Boje Thun\, nach 100 Minuten Laufdauer\n\nSystem\n
 Gestaffelter Start mit Zeitvergütung je nach Yardstickwert (in Minutenschr
 itte ab 14:00 Uhr)\n\nKurs und Details\nSiehe Regattaauschreibung\n\nAnmel
 dung\nPer Mail an info@scwe.ch oder mit manage2sail: SCWe-Einhandregatta\n
DTSTART:20230610T140000
DTEND:20230610T170000
LOCATION:Thun - Oberhofen
ORGANIZER:MAILTO:Segelclub Wendelsee Thun <info@scwe.ch>
SUMMARY:SCWe-Einhandregatta 2023
END:VEVENT
END:VCALENDAR
